BEGIN:VCALENDAR
VERSION:2.0
PRODID:-//Goldgrube//myauktion.com//AT
CALSCALE:GREGORIAN
BEGIN:VEVENT
DTSTART:20260508T100000
DTEND:20260508T100030
LOCATION:Gewerbepark 13, 8562 Mooskirchen
DTSTAMP:20260424T144438
SUMMARY:MyAuktion: Ablauf Artikel Nr. 957736 Silan Weichspüler 2860ml
URL;VALUE=URI:https://www.myauktion.com/versteigerung7671-position2446097-silan-weichspueler-2860ml.php
DESCRIPTION:
UID:myauktion-7671-2446097
BEGIN:VALARM
ACTION:DISPLAY
DESCRIPTION:
TRIGGER:-PT10M
END:VALARM
END:VEVENT
END:VCALENDAR