BEGIN:VCALENDAR
VERSION:2.0
PRODID:-//Goldgrube//myauktion.com//AT
CALSCALE:GREGORIAN
BEGIN:VEVENT
DTSTART:20260508T100100
DTEND:20260508T100130
LOCATION:Gewerbepark 13, 8562 Mooskirchen
DTSTAMP:20260425T015253
SUMMARY:MyAuktion: Ablauf Artikel Nr. 957737 Persil Vollwaschmittel 1.24l
URL;VALUE=URI:https://www.myauktion.com/versteigerung7671-position2446100-persil-vollwaschmittel-124l.php
DESCRIPTION:1
UID:myauktion-7671-2446100
BEGIN:VALARM
ACTION:DISPLAY
DESCRIPTION:1
TRIGGER:-PT10M
END:VALARM
END:VEVENT
END:VCALENDAR