BEGIN:VCALENDAR
VERSION:2.0
PRODID:-//Goldgrube//myauktion.com//AT
CALSCALE:GREGORIAN
BEGIN:VEVENT
DTSTART:20260508T121400
DTEND:20260508T121430
LOCATION:Gewerbepark 13, 8562 Mooskirchen
DTSTAMP:20260424T165431
SUMMARY:MyAuktion: Ablauf Artikel Nr. 958268 Lithofin Easy-Clean für Naturstein 500ml
URL;VALUE=URI:https://www.myauktion.com/versteigerung7671-position2446101-lithofin-easy-clean-fuer-naturstein-500ml.php
DESCRIPTION:
UID:myauktion-7671-2446101
BEGIN:VALARM
ACTION:DISPLAY
DESCRIPTION:
TRIGGER:-PT10M
END:VALARM
END:VEVENT
END:VCALENDAR