BEGIN:VCALENDAR
VERSION:2.0
PRODID:-//Goldgrube//myauktion.com//AT
CALSCALE:GREGORIAN
BEGIN:VEVENT
DTSTART:20260508T133100
DTEND:20260508T133130
LOCATION:Gewerbepark 13, 8562 Mooskirchen
DTSTAMP:20260425T015253
SUMMARY:MyAuktion: Ablauf Artikel Nr. 958511 Pril Original Spülmittel je 675ml
URL;VALUE=URI:https://www.myauktion.com/versteigerung7671-position2446103-pril-original-spuelmittel-je-675ml.php
DESCRIPTION:Verschmutzt
UID:myauktion-7671-2446103
BEGIN:VALARM
ACTION:DISPLAY
DESCRIPTION:Verschmutzt
TRIGGER:-PT10M
END:VALARM
END:VEVENT
END:VCALENDAR