BEGIN:VCALENDAR
VERSION:2.0
PRODID:-//Goldgrube//myauktion.com//AT
CALSCALE:GREGORIAN
BEGIN:VEVENT
DTSTART:20260508T110300
DTEND:20260508T110330
LOCATION:Gewerbepark 13, 8562 Mooskirchen
DTSTAMP:20260424T180139
SUMMARY:MyAuktion: Ablauf Artikel Nr. 957995 Weißer Riese Universal Gel 2250ml
URL;VALUE=URI:https://www.myauktion.com/versteigerung7671-position2446106-weisser-riese-universal-gel-2250ml.php
DESCRIPTION:
UID:myauktion-7671-2446106
BEGIN:VALARM
ACTION:DISPLAY
DESCRIPTION:
TRIGGER:-PT10M
END:VALARM
END:VEVENT
END:VCALENDAR