BEGIN:VCALENDAR
VERSION:2.0
PRODID:-//Goldgrube//myauktion.com//AT
CALSCALE:GREGORIAN
BEGIN:VEVENT
DTSTART:20260508T133300
DTEND:20260508T133330
LOCATION:Gewerbepark 13, 8562 Mooskirchen
DTSTAMP:20260424T160247
SUMMARY:MyAuktion: Ablauf Artikel Nr. 958513 BioHY Bodenreiniger 1L
URL;VALUE=URI:https://www.myauktion.com/versteigerung7671-position2446108-biohy-bodenreiniger-1l.php
DESCRIPTION:Verschmutzt
UID:myauktion-7671-2446108
BEGIN:VALARM
ACTION:DISPLAY
DESCRIPTION:Verschmutzt
TRIGGER:-PT10M
END:VALARM
END:VEVENT
END:VCALENDAR