BEGIN:VCALENDAR
VERSION:2.0
PRODID:-//Goldgrube//myauktion.com//AT
CALSCALE:GREGORIAN
BEGIN:VEVENT
DTSTART:20260508T100400
DTEND:20260508T100430
LOCATION:Gewerbepark 13, 8562 Mooskirchen
DTSTAMP:20260424T144437
SUMMARY:MyAuktion: Ablauf Artikel Nr. 957740 Pril Original 676ml 
URL;VALUE=URI:https://www.myauktion.com/versteigerung7671-position2446109-pril-original-676ml.php
DESCRIPTION:
UID:myauktion-7671-2446109
BEGIN:VALARM
ACTION:DISPLAY
DESCRIPTION:
TRIGGER:-PT10M
END:VALARM
END:VEVENT
END:VCALENDAR