BEGIN:VCALENDAR
VERSION:2.0
PRODID:-//Goldgrube//myauktion.com//AT
CALSCALE:GREGORIAN
BEGIN:VEVENT
DTSTART:20260508T110400
DTEND:20260508T110430
LOCATION:Gewerbepark 13, 8562 Mooskirchen
DTSTAMP:20260424T150435
SUMMARY:MyAuktion: Ablauf Artikel Nr. 957996 ECO VER Refill Washing-Up Liquid Hand-Spülmittel 5l
URL;VALUE=URI:https://www.myauktion.com/versteigerung7671-position2446110-eco-ver-refill-washing-up-liquid-hand-spuelmittel-5l.php
DESCRIPTION:
UID:myauktion-7671-2446110
BEGIN:VALARM
ACTION:DISPLAY
DESCRIPTION:
TRIGGER:-PT10M
END:VALARM
END:VEVENT
END:VCALENDAR