BEGIN:VCALENDAR
VERSION:2.0
PRODID:-//Goldgrube//myauktion.com//AT
CALSCALE:GREGORIAN
BEGIN:VEVENT
DTSTART:20260508T133400
DTEND:20260508T133430
LOCATION:Gewerbepark 13, 8562 Mooskirchen
DTSTAMP:20260424T172644
SUMMARY:MyAuktion: Ablauf Artikel Nr. 958514 EcoVer All-In-One Geschirrspüler Pods 2Kg
URL;VALUE=URI:https://www.myauktion.com/versteigerung7671-position2446111-ecover-all-in-one-geschirrspueler-pods-2kg.php
DESCRIPTION:
UID:myauktion-7671-2446111
BEGIN:VALARM
ACTION:DISPLAY
DESCRIPTION:
TRIGGER:-PT10M
END:VALARM
END:VEVENT
END:VCALENDAR