BEGIN:VCALENDAR
VERSION:2.0
PRODID:-//Goldgrube//myauktion.com//AT
CALSCALE:GREGORIAN
BEGIN:VEVENT
DTSTART:20260508T100600
DTEND:20260508T100630
LOCATION:Gewerbepark 13, 8562 Mooskirchen
DTSTAMP:20260424T222207
SUMMARY:MyAuktion: Ablauf Artikel Nr. 957742 Prowin Stennex  750ml
URL;VALUE=URI:https://www.myauktion.com/versteigerung7671-position2446114-prowin-stennex-750ml.php
DESCRIPTION:
UID:myauktion-7671-2446114
BEGIN:VALARM
ACTION:DISPLAY
DESCRIPTION:
TRIGGER:-PT10M
END:VALARM
END:VEVENT
END:VCALENDAR