BEGIN:VCALENDAR
VERSION:2.0
PRODID:-//Goldgrube//myauktion.com//AT
CALSCALE:GREGORIAN
BEGIN:VEVENT
DTSTART:20260508T110600
DTEND:20260508T110630
LOCATION:Gewerbepark 13, 8562 Mooskirchen
DTSTAMP:20260424T160242
SUMMARY:MyAuktion: Ablauf Artikel Nr. 957998 Henkel Persil Universal 1,54kg 
URL;VALUE=URI:https://www.myauktion.com/versteigerung7671-position2446116-henkel-persil-universal-154kg.php
DESCRIPTION:
UID:myauktion-7671-2446116
BEGIN:VALARM
ACTION:DISPLAY
DESCRIPTION:
TRIGGER:-PT10M
END:VALARM
END:VEVENT
END:VCALENDAR