BEGIN:VCALENDAR
VERSION:2.0
PRODID:-//Goldgrube//myauktion.com//AT
CALSCALE:GREGORIAN
BEGIN:VEVENT
DTSTART:20260508T100800
DTEND:20260508T100830
LOCATION:Gewerbepark 13, 8562 Mooskirchen
DTSTAMP:20260424T180140
SUMMARY:MyAuktion: Ablauf Artikel Nr. 957744 Coral Farbschutz Color 3l
URL;VALUE=URI:https://www.myauktion.com/versteigerung7671-position2446118-coral-farbschutz-color-3l.php
DESCRIPTION:
UID:myauktion-7671-2446118
BEGIN:VALARM
ACTION:DISPLAY
DESCRIPTION:
TRIGGER:-PT10M
END:VALARM
END:VEVENT
END:VCALENDAR