BEGIN:VCALENDAR
VERSION:2.0
PRODID:-//Goldgrube//myauktion.com//AT
CALSCALE:GREGORIAN
BEGIN:VEVENT
DTSTART:20260508T133700
DTEND:20260508T133730
LOCATION:Gewerbepark 13, 8562 Mooskirchen
DTSTAMP:20260424T172644
SUMMARY:MyAuktion: Ablauf Artikel Nr. 958516 Perwoll Color Waschmittel 1,35L
URL;VALUE=URI:https://www.myauktion.com/versteigerung7671-position2446119-perwoll-color-waschmittel-135l.php
DESCRIPTION:
UID:myauktion-7671-2446119
BEGIN:VALARM
ACTION:DISPLAY
DESCRIPTION:
TRIGGER:-PT10M
END:VALARM
END:VEVENT
END:VCALENDAR