BEGIN:VCALENDAR
VERSION:2.0
PRODID:-//Goldgrube//myauktion.com//AT
CALSCALE:GREGORIAN
BEGIN:VEVENT
DTSTART:20260508T133900
DTEND:20260508T133930
LOCATION:Gewerbepark 13, 8562 Mooskirchen
DTSTAMP:20260424T222212
SUMMARY:MyAuktion: Ablauf Artikel Nr. 958518 Clean und Clever Klarspüler je 1L
URL;VALUE=URI:https://www.myauktion.com/versteigerung7671-position2446124-clean-und-clever-klarspueler-je-1l.php
DESCRIPTION:
UID:myauktion-7671-2446124
BEGIN:VALARM
ACTION:DISPLAY
DESCRIPTION:
TRIGGER:-PT10M
END:VALARM
END:VEVENT
END:VCALENDAR