BEGIN:VCALENDAR
VERSION:2.0
PRODID:-//Goldgrube//myauktion.com//AT
CALSCALE:GREGORIAN
BEGIN:VEVENT
DTSTART:20260508T101200
DTEND:20260508T101230
LOCATION:Gewerbepark 13, 8562 Mooskirchen
DTSTAMP:20260424T222206
SUMMARY:MyAuktion: Ablauf Artikel Nr. 957747 Lenor Waschmittel 4500ml
URL;VALUE=URI:https://www.myauktion.com/versteigerung7671-position2446125-lenor-waschmittel-4500ml.php
DESCRIPTION:
UID:myauktion-7671-2446125
BEGIN:VALARM
ACTION:DISPLAY
DESCRIPTION:
TRIGGER:-PT10M
END:VALARM
END:VEVENT
END:VCALENDAR