BEGIN:VCALENDAR
VERSION:2.0
PRODID:-//Goldgrube//myauktion.com//AT
CALSCALE:GREGORIAN
BEGIN:VEVENT
DTSTART:20260508T110900
DTEND:20260508T110930
LOCATION:Gewerbepark 13, 8562 Mooskirchen
DTSTAMP:20260424T180143
SUMMARY:MyAuktion: Ablauf Artikel Nr. 958000 Diverse Blue Star WC Reiniger 
URL;VALUE=URI:https://www.myauktion.com/versteigerung7671-position2446126-diverse-blue-star-wc-reiniger.php
DESCRIPTION:
UID:myauktion-7671-2446126
BEGIN:VALARM
ACTION:DISPLAY
DESCRIPTION:
TRIGGER:-PT10M
END:VALARM
END:VEVENT
END:VCALENDAR