BEGIN:VCALENDAR
VERSION:2.0
PRODID:-//Goldgrube//myauktion.com//AT
CALSCALE:GREGORIAN
BEGIN:VEVENT
DTSTART:20260508T121500
DTEND:20260508T121530
LOCATION:Gewerbepark 13, 8562 Mooskirchen
DTSTAMP:20260424T165431
SUMMARY:MyAuktion: Ablauf Artikel Nr. 958269 Lenor Weichspüler Blütentraum je 882ml 
URL;VALUE=URI:https://www.myauktion.com/versteigerung7671-position2446129-lenor-weichspueler-bluetentraum-je-882ml.php
DESCRIPTION:
UID:myauktion-7671-2446129
BEGIN:VALARM
ACTION:DISPLAY
DESCRIPTION:
TRIGGER:-PT10M
END:VALARM
END:VEVENT
END:VCALENDAR