BEGIN:VCALENDAR
VERSION:2.0
PRODID:-//Goldgrube//myauktion.com//AT
CALSCALE:GREGORIAN
BEGIN:VEVENT
DTSTART:20260508T121800
DTEND:20260508T121830
LOCATION:Gewerbepark 13, 8562 Mooskirchen
DTSTAMP:20260424T175413
SUMMARY:MyAuktion: Ablauf Artikel Nr. 958270 Sodasan Flüssigseife Citrus & Olive Nachfüller 1L 
URL;VALUE=URI:https://www.myauktion.com/versteigerung7671-position2446131-sodasan-fluessigseife-citrus-38-olive-nachfueller-1l.php
DESCRIPTION:
UID:myauktion-7671-2446131
BEGIN:VALARM
ACTION:DISPLAY
DESCRIPTION:
TRIGGER:-PT10M
END:VALARM
END:VEVENT
END:VCALENDAR