BEGIN:VCALENDAR
VERSION:2.0
PRODID:-//Goldgrube//myauktion.com//AT
CALSCALE:GREGORIAN
BEGIN:VEVENT
DTSTART:20260508T101600
DTEND:20260508T101630
LOCATION:Gewerbepark 13, 8562 Mooskirchen
DTSTAMP:20260424T160239
SUMMARY:MyAuktion: Ablauf Artikel Nr. 957751 Haka Raumpfleger 750ml
URL;VALUE=URI:https://www.myauktion.com/versteigerung7671-position2446132-haka-raumpfleger-750ml.php
DESCRIPTION:
UID:myauktion-7671-2446132
BEGIN:VALARM
ACTION:DISPLAY
DESCRIPTION:
TRIGGER:-PT10M
END:VALARM
END:VEVENT
END:VCALENDAR