BEGIN:VCALENDAR
VERSION:2.0
PRODID:-//Goldgrube//myauktion.com//AT
CALSCALE:GREGORIAN
BEGIN:VEVENT
DTSTART:20260508T121900
DTEND:20260508T121930
LOCATION:Gewerbepark 13, 8562 Mooskirchen
DTSTAMP:20260425T015245
SUMMARY:MyAuktion: Ablauf Artikel Nr. 958271 Somat All in 1 extra Tabs 55Stk 
URL;VALUE=URI:https://www.myauktion.com/versteigerung7671-position2446134-somat-all-in-1-extra-tabs-55stk.php
DESCRIPTION:
UID:myauktion-7671-2446134
BEGIN:VALARM
ACTION:DISPLAY
DESCRIPTION:
TRIGGER:-PT10M
END:VALARM
END:VEVENT
END:VCALENDAR