BEGIN:VCALENDAR
VERSION:2.0
PRODID:-//Goldgrube//myauktion.com//AT
CALSCALE:GREGORIAN
BEGIN:VEVENT
DTSTART:20260508T122300
DTEND:20260508T122330
LOCATION:Gewerbepark 13, 8562 Mooskirchen
DTSTAMP:20260425T015254
SUMMARY:MyAuktion: Ablauf Artikel Nr. 958275 Vexil Urin und Kalkstein Entferner 1L
URL;VALUE=URI:https://www.myauktion.com/versteigerung7671-position2446141-vexil-urin-und-kalkstein-entferner-1l.php
DESCRIPTION:
UID:myauktion-7671-2446141
BEGIN:VALARM
ACTION:DISPLAY
DESCRIPTION:
TRIGGER:-PT10M
END:VALARM
END:VEVENT
END:VCALENDAR