BEGIN:VCALENDAR
VERSION:2.0
PRODID:-//Goldgrube//myauktion.com//AT
CALSCALE:GREGORIAN
BEGIN:VEVENT
DTSTART:20260508T123200
DTEND:20260508T123230
LOCATION:Gewerbepark 13, 8562 Mooskirchen
DTSTAMP:20260424T134754
SUMMARY:MyAuktion: Ablauf Artikel Nr. 958278 Mellerud Rohr Frei Granulat 600g
URL;VALUE=URI:https://www.myauktion.com/versteigerung7671-position2446150-mellerud-rohr-frei-granulat-600g.php
DESCRIPTION:
UID:myauktion-7671-2446150
BEGIN:VALARM
ACTION:DISPLAY
DESCRIPTION:
TRIGGER:-PT10M
END:VALARM
END:VEVENT
END:VCALENDAR