BEGIN:VCALENDAR
VERSION:2.0
PRODID:-//Goldgrube//myauktion.com//AT
CALSCALE:GREGORIAN
BEGIN:VEVENT
DTSTART:20260508T123900
DTEND:20260508T123930
LOCATION:Gewerbepark 13, 8562 Mooskirchen
DTSTAMP:20260424T172644
SUMMARY:MyAuktion: Ablauf Artikel Nr. 958279 Miele UltraTabs All in 1 60Stk 
URL;VALUE=URI:https://www.myauktion.com/versteigerung7671-position2446153-miele-ultratabs-all-in-1-60stk.php
DESCRIPTION:
UID:myauktion-7671-2446153
BEGIN:VALARM
ACTION:DISPLAY
DESCRIPTION:
TRIGGER:-PT10M
END:VALARM
END:VEVENT
END:VCALENDAR