BEGIN:VCALENDAR
VERSION:2.0
PRODID:-//Goldgrube//myauktion.com//AT
CALSCALE:GREGORIAN
BEGIN:VEVENT
DTSTART:20260508T102400
DTEND:20260508T102430
LOCATION:Gewerbepark 13, 8562 Mooskirchen
DTSTAMP:20260425T015254
SUMMARY:MyAuktion: Ablauf Artikel Nr. 957758 Adj Fog Juice Co2 Fluid for asmole Machines 5l
URL;VALUE=URI:https://www.myauktion.com/versteigerung7671-position2446155-adj-fog-juice-co2-fluid-for-asmole-machines-5l.php
DESCRIPTION:
UID:myauktion-7671-2446155
BEGIN:VALARM
ACTION:DISPLAY
DESCRIPTION:
TRIGGER:-PT10M
END:VALARM
END:VEVENT
END:VCALENDAR