BEGIN:VCALENDAR
VERSION:2.0
PRODID:-//Goldgrube//myauktion.com//AT
CALSCALE:GREGORIAN
BEGIN:VEVENT
DTSTART:20260508T124100
DTEND:20260508T124130
LOCATION:Gewerbepark 13, 8562 Mooskirchen
DTSTAMP:20260424T165430
SUMMARY:MyAuktion: Ablauf Artikel Nr. 958281 EQM Coffee Machine Descaler 500ml
URL;VALUE=URI:https://www.myauktion.com/versteigerung7671-position2446156-eqm-coffee-machine-descaler-500ml.php
DESCRIPTION:
UID:myauktion-7671-2446156
BEGIN:VALARM
ACTION:DISPLAY
DESCRIPTION:
TRIGGER:-PT10M
END:VALARM
END:VEVENT
END:VCALENDAR