BEGIN:VCALENDAR
VERSION:2.0
PRODID:-//Goldgrube//myauktion.com//AT
CALSCALE:GREGORIAN
BEGIN:VEVENT
DTSTART:20260508T124200
DTEND:20260508T124230
LOCATION:Gewerbepark 13, 8562 Mooskirchen
DTSTAMP:20260424T165430
SUMMARY:MyAuktion: Ablauf Artikel Nr. 958282 Oriniq Thailand Peeling Pflegeseife mit Mandelmilch 300ml 
URL;VALUE=URI:https://www.myauktion.com/versteigerung7671-position2446158-oriniq-thailand-peeling-pflegeseife-mit-mandelmilch-300ml.php
DESCRIPTION:Verpackung beschädigt 
UID:myauktion-7671-2446158
BEGIN:VALARM
ACTION:DISPLAY
DESCRIPTION:Verpackung beschädigt 
TRIGGER:-PT10M
END:VALARM
END:VEVENT
END:VCALENDAR