BEGIN:VCALENDAR
VERSION:2.0
PRODID:-//Goldgrube//myauktion.com//AT
CALSCALE:GREGORIAN
BEGIN:VEVENT
DTSTART:20260508T124300
DTEND:20260508T124330
LOCATION:Gewerbepark 13, 8562 Mooskirchen
DTSTAMP:20260424T165431
SUMMARY:MyAuktion: Ablauf Artikel Nr. 958283 Bleu & marine Aloe Vera Gel Facial/Body Moisturizing 500ml 
URL;VALUE=URI:https://www.myauktion.com/versteigerung7671-position2446162-bleu-38-marine-aloe-vera-gel-facial-body-moisturizing-500ml.php
DESCRIPTION:MHD 12.2029 
UID:myauktion-7671-2446162
BEGIN:VALARM
ACTION:DISPLAY
DESCRIPTION:MHD 12.2029 
TRIGGER:-PT10M
END:VALARM
END:VEVENT
END:VCALENDAR