BEGIN:VCALENDAR
VERSION:2.0
PRODID:-//Goldgrube//myauktion.com//AT
CALSCALE:GREGORIAN
BEGIN:VEVENT
DTSTART:20260508T124400
DTEND:20260508T124430
LOCATION:Gewerbepark 13, 8562 Mooskirchen
DTSTAMP:20260424T165429
SUMMARY:MyAuktion: Ablauf Artikel Nr. 958284 Eucerin Atop! Control 400ml 
URL;VALUE=URI:https://www.myauktion.com/versteigerung7671-position2446163-eucerin-atop-control-400ml.php
DESCRIPTION:
UID:myauktion-7671-2446163
BEGIN:VALARM
ACTION:DISPLAY
DESCRIPTION:
TRIGGER:-PT10M
END:VALARM
END:VEVENT
END:VCALENDAR