BEGIN:VCALENDAR
VERSION:2.0
PRODID:-//Goldgrube//myauktion.com//AT
CALSCALE:GREGORIAN
BEGIN:VEVENT
DTSTART:20260508T124500
DTEND:20260508T124530
LOCATION:Gewerbepark 13, 8562 Mooskirchen
DTSTAMP:20260424T165430
SUMMARY:MyAuktion: Ablauf Artikel Nr. 958285 Premium Quality H202 Wasserstoffperoxid 1000ml 
URL;VALUE=URI:https://www.myauktion.com/versteigerung7671-position2446165-premium-quality-h202-wasserstoffperoxid-1000ml.php
DESCRIPTION:MHD 02.2028 
UID:myauktion-7671-2446165
BEGIN:VALARM
ACTION:DISPLAY
DESCRIPTION:MHD 02.2028 
TRIGGER:-PT10M
END:VALARM
END:VEVENT
END:VCALENDAR