BEGIN:VCALENDAR
VERSION:2.0
PRODID:-//Goldgrube//myauktion.com//AT
CALSCALE:GREGORIAN
BEGIN:VEVENT
DTSTART:20260508T102600
DTEND:20260508T102630
LOCATION:Gewerbepark 13, 8562 Mooskirchen
DTSTAMP:20260425T015243
SUMMARY:MyAuktion: Ablauf Artikel Nr. 957760 Dr. Beckmann Sprühstärke mit Bügelhilfe 
URL;VALUE=URI:https://www.myauktion.com/versteigerung7671-position2446168-dr-beckmann-spruehstaerke-mit-buegelhilfe.php
DESCRIPTION:
UID:myauktion-7671-2446168
BEGIN:VALARM
ACTION:DISPLAY
DESCRIPTION:
TRIGGER:-PT10M
END:VALARM
END:VEVENT
END:VCALENDAR