BEGIN:VCALENDAR
VERSION:2.0
PRODID:-//Goldgrube//myauktion.com//AT
CALSCALE:GREGORIAN
BEGIN:VEVENT
DTSTART:20260508T102700
DTEND:20260508T102730
LOCATION:Gewerbepark 13, 8562 Mooskirchen
DTSTAMP:20260424T172644
SUMMARY:MyAuktion: Ablauf Artikel Nr. 957761 Drano Power Gel Rohrfrei  1000ml
URL;VALUE=URI:https://www.myauktion.com/versteigerung7671-position2446170-drano-power-gel-rohrfrei-1000ml.php
DESCRIPTION:
UID:myauktion-7671-2446170
BEGIN:VALARM
ACTION:DISPLAY
DESCRIPTION:
TRIGGER:-PT10M
END:VALARM
END:VEVENT
END:VCALENDAR