BEGIN:VCALENDAR
VERSION:2.0
PRODID:-//Goldgrube//myauktion.com//AT
CALSCALE:GREGORIAN
BEGIN:VEVENT
DTSTART:20260508T111500
DTEND:20260508T111530
LOCATION:Gewerbepark 13, 8562 Mooskirchen
DTSTAMP:20260424T152125
SUMMARY:MyAuktion: Ablauf Artikel Nr. 958006 Vexil Krustenlöser Kraft Gel 750ml
URL;VALUE=URI:https://www.myauktion.com/versteigerung7671-position2446173-vexil-krustenloeser-kraft-gel-750ml.php
DESCRIPTION:
UID:myauktion-7671-2446173
BEGIN:VALARM
ACTION:DISPLAY
DESCRIPTION:
TRIGGER:-PT10M
END:VALARM
END:VEVENT
END:VCALENDAR