BEGIN:VCALENDAR
VERSION:2.0
PRODID:-//Goldgrube//myauktion.com//AT
CALSCALE:GREGORIAN
BEGIN:VEVENT
DTSTART:20260508T124900
DTEND:20260508T124930
LOCATION:Gewerbepark 13, 8562 Mooskirchen
DTSTAMP:20260424T165430
SUMMARY:MyAuktion: Ablauf Artikel Nr. 958289 Sodasan Küchen Reiniger 500ml
URL;VALUE=URI:https://www.myauktion.com/versteigerung7671-position2446174-sodasan-kuechen-reiniger-500ml.php
DESCRIPTION:
UID:myauktion-7671-2446174
BEGIN:VALARM
ACTION:DISPLAY
DESCRIPTION:
TRIGGER:-PT10M
END:VALARM
END:VEVENT
END:VCALENDAR