BEGIN:VCALENDAR
VERSION:2.0
PRODID:-//Goldgrube//myauktion.com//AT
CALSCALE:GREGORIAN
BEGIN:VEVENT
DTSTART:20260508T102900
DTEND:20260508T102930
LOCATION:Gewerbepark 13, 8562 Mooskirchen
DTSTAMP:20260424T160252
SUMMARY:MyAuktion: Ablauf Artikel Nr. 957762 Marcel&#39;s Green Soap 500ml
URL;VALUE=URI:https://www.myauktion.com/versteigerung7671-position2446175-marcel-39s-green-soap-500ml.php
DESCRIPTION:
UID:myauktion-7671-2446175
BEGIN:VALARM
ACTION:DISPLAY
DESCRIPTION:
TRIGGER:-PT10M
END:VALARM
END:VEVENT
END:VCALENDAR