BEGIN:VCALENDAR
VERSION:2.0
PRODID:-//Goldgrube//myauktion.com//AT
CALSCALE:GREGORIAN
BEGIN:VEVENT
DTSTART:20260508T125000
DTEND:20260508T125030
LOCATION:Gewerbepark 13, 8562 Mooskirchen
DTSTAMP:20260424T165430
SUMMARY:MyAuktion: Ablauf Artikel Nr. 958290 Diverse Reiniger 3x1L 1x750ml 
URL;VALUE=URI:https://www.myauktion.com/versteigerung7671-position2446176-diverse-reiniger-3x1l-1x750ml.php
DESCRIPTION:
UID:myauktion-7671-2446176
BEGIN:VALARM
ACTION:DISPLAY
DESCRIPTION:
TRIGGER:-PT10M
END:VALARM
END:VEVENT
END:VCALENDAR