BEGIN:VCALENDAR
VERSION:2.0
PRODID:-//Goldgrube//myauktion.com//AT
CALSCALE:GREGORIAN
BEGIN:VEVENT
DTSTART:20260508T111600
DTEND:20260508T111630
LOCATION:Gewerbepark 13, 8562 Mooskirchen
DTSTAMP:20260425T015256
SUMMARY:MyAuktion: Ablauf Artikel Nr. 958007 Qindoo imprägnier Spray Polstermöbel 500ml
URL;VALUE=URI:https://www.myauktion.com/versteigerung7671-position2446178-qindoo-impraegnier-spray-polstermoebel-500ml.php
DESCRIPTION:
UID:myauktion-7671-2446178
BEGIN:VALARM
ACTION:DISPLAY
DESCRIPTION:
TRIGGER:-PT10M
END:VALARM
END:VEVENT
END:VCALENDAR