BEGIN:VCALENDAR
VERSION:2.0
PRODID:-//Goldgrube//myauktion.com//AT
CALSCALE:GREGORIAN
BEGIN:VEVENT
DTSTART:20260508T125100
DTEND:20260508T125130
LOCATION:Gewerbepark 13, 8562 Mooskirchen
DTSTAMP:20260424T165431
SUMMARY:MyAuktion: Ablauf Artikel Nr. 958291 Diverse Seifen 1x1000ml 2x500ml 1x250ml 1x300ml 
URL;VALUE=URI:https://www.myauktion.com/versteigerung7671-position2446181-diverse-seifen-1x1000ml-2x500ml-1x250ml-1x300ml.php
DESCRIPTION:
UID:myauktion-7671-2446181
BEGIN:VALARM
ACTION:DISPLAY
DESCRIPTION:
TRIGGER:-PT10M
END:VALARM
END:VEVENT
END:VCALENDAR