BEGIN:VCALENDAR
VERSION:2.0
PRODID:-//Goldgrube//myauktion.com//AT
CALSCALE:GREGORIAN
BEGIN:VEVENT
DTSTART:20260508T111700
DTEND:20260508T111730
LOCATION:Gewerbepark 13, 8562 Mooskirchen
DTSTAMP:20260424T150435
SUMMARY:MyAuktion: Ablauf Artikel Nr. 958008 Diverse Reiniger Waschmaschine und Geschirrspüler 
URL;VALUE=URI:https://www.myauktion.com/versteigerung7671-position2446182-diverse-reiniger-waschmaschine-und-geschirrspueler.php
DESCRIPTION:
UID:myauktion-7671-2446182
BEGIN:VALARM
ACTION:DISPLAY
DESCRIPTION:
TRIGGER:-PT10M
END:VALARM
END:VEVENT
END:VCALENDAR