BEGIN:VCALENDAR
VERSION:2.0
PRODID:-//Goldgrube//myauktion.com//AT
CALSCALE:GREGORIAN
BEGIN:VEVENT
DTSTART:20260508T125200
DTEND:20260508T125230
LOCATION:Gewerbepark 13, 8562 Mooskirchen
DTSTAMP:20260424T165431
SUMMARY:MyAuktion: Ablauf Artikel Nr. 958292 Starwax Essig Reiniger 1L 
URL;VALUE=URI:https://www.myauktion.com/versteigerung7671-position2446183-starwax-essig-reiniger-1l.php
DESCRIPTION:
UID:myauktion-7671-2446183
BEGIN:VALARM
ACTION:DISPLAY
DESCRIPTION:
TRIGGER:-PT10M
END:VALARM
END:VEVENT
END:VCALENDAR