BEGIN:VCALENDAR
VERSION:2.0
PRODID:-//Goldgrube//myauktion.com//AT
CALSCALE:GREGORIAN
BEGIN:VEVENT
DTSTART:20260508T125400
DTEND:20260508T125430
LOCATION:Gewerbepark 13, 8562 Mooskirchen
DTSTAMP:20260424T165430
SUMMARY:MyAuktion: Ablauf Artikel Nr. 958294 Hände Desinfektionsmittel / Waschlotion 2x1000ml 
URL;VALUE=URI:https://www.myauktion.com/versteigerung7671-position2446186-haende-desinfektionsmittel---waschlotion-2x1000ml.php
DESCRIPTION:MHD 03.2028 
UID:myauktion-7671-2446186
BEGIN:VALARM
ACTION:DISPLAY
DESCRIPTION:MHD 03.2028 
TRIGGER:-PT10M
END:VALARM
END:VEVENT
END:VCALENDAR