BEGIN:VCALENDAR
VERSION:2.0
PRODID:-//Goldgrube//myauktion.com//AT
CALSCALE:GREGORIAN
BEGIN:VEVENT
DTSTART:20260508T125500
DTEND:20260508T125530
LOCATION:Gewerbepark 13, 8562 Mooskirchen
DTSTAMP:20260425T015248
SUMMARY:MyAuktion: Ablauf Artikel Nr. 958295 Method Bad Oberflächen Reiniger 828ml 
URL;VALUE=URI:https://www.myauktion.com/versteigerung7671-position2446189-method-bad-oberflaechen-reiniger-828ml.php
DESCRIPTION:
UID:myauktion-7671-2446189
BEGIN:VALARM
ACTION:DISPLAY
DESCRIPTION:
TRIGGER:-PT10M
END:VALARM
END:VEVENT
END:VCALENDAR