BEGIN:VCALENDAR
VERSION:2.0
PRODID:-//Goldgrube//myauktion.com//AT
CALSCALE:GREGORIAN
BEGIN:VEVENT
DTSTART:20260508T125600
DTEND:20260508T125630
LOCATION:Gewerbepark 13, 8562 Mooskirchen
DTSTAMP:20260424T150436
SUMMARY:MyAuktion: Ablauf Artikel Nr. 958296 Diverse Kalkreiniger / Entkalker 1x300ml 1x500ml 1x750ml 
URL;VALUE=URI:https://www.myauktion.com/versteigerung7671-position2446191-diverse-kalkreiniger---entkalker-1x300ml-1x500ml-1x750ml.php
DESCRIPTION:
UID:myauktion-7671-2446191
BEGIN:VALARM
ACTION:DISPLAY
DESCRIPTION:
TRIGGER:-PT10M
END:VALARM
END:VEVENT
END:VCALENDAR