BEGIN:VCALENDAR
VERSION:2.0
PRODID:-//Goldgrube//myauktion.com//AT
CALSCALE:GREGORIAN
BEGIN:VEVENT
DTSTART:20260508T135100
DTEND:20260508T135130
LOCATION:Gewerbepark 13, 8562 Mooskirchen
DTSTAMP:20260424T160245
SUMMARY:MyAuktion: Ablauf Artikel Nr. 958529 R.fect Flächendesinfektion Alkoholfrei 1L
URL;VALUE=URI:https://www.myauktion.com/versteigerung7671-position2446193-rfect-flaechendesinfektion-alkoholfrei-1l.php
DESCRIPTION:
UID:myauktion-7671-2446193
BEGIN:VALARM
ACTION:DISPLAY
DESCRIPTION:
TRIGGER:-PT10M
END:VALARM
END:VEVENT
END:VCALENDAR