BEGIN:VCALENDAR
VERSION:2.0
PRODID:-//Goldgrube//myauktion.com//AT
CALSCALE:GREGORIAN
BEGIN:VEVENT
DTSTART:20260508T125700
DTEND:20260508T125730
LOCATION:Gewerbepark 13, 8562 Mooskirchen
DTSTAMP:20260424T152128
SUMMARY:MyAuktion: Ablauf Artikel Nr. 958297 Diverse Mundspülung 1x400ml 1x500ml 
URL;VALUE=URI:https://www.myauktion.com/versteigerung7671-position2446194-diverse-mundspuelung-1x400ml-1x500ml.php
DESCRIPTION:
UID:myauktion-7671-2446194
BEGIN:VALARM
ACTION:DISPLAY
DESCRIPTION:
TRIGGER:-PT10M
END:VALARM
END:VEVENT
END:VCALENDAR