BEGIN:VCALENDAR
VERSION:2.0
PRODID:-//Goldgrube//myauktion.com//AT
CALSCALE:GREGORIAN
BEGIN:VEVENT
DTSTART:20260508T125800
DTEND:20260508T125830
LOCATION:Gewerbepark 13, 8562 Mooskirchen
DTSTAMP:20260424T165431
SUMMARY:MyAuktion: Ablauf Artikel Nr. 958298 Starwax Joints Poreux 200ml 
URL;VALUE=URI:https://www.myauktion.com/versteigerung7671-position2446196-starwax-joints-poreux-200ml.php
DESCRIPTION:
UID:myauktion-7671-2446196
BEGIN:VALARM
ACTION:DISPLAY
DESCRIPTION:
TRIGGER:-PT10M
END:VALARM
END:VEVENT
END:VCALENDAR