BEGIN:VCALENDAR
VERSION:2.0
PRODID:-//Goldgrube//myauktion.com//AT
CALSCALE:GREGORIAN
BEGIN:VEVENT
DTSTART:20260508T135200
DTEND:20260508T135230
LOCATION:Gewerbepark 13, 8562 Mooskirchen
DTSTAMP:20260424T160250
SUMMARY:MyAuktion: Ablauf Artikel Nr. 958530 Diverse Drogerieartikel
URL;VALUE=URI:https://www.myauktion.com/versteigerung7671-position2446197-diverse-drogerieartikel.php
DESCRIPTION:
UID:myauktion-7671-2446197
BEGIN:VALARM
ACTION:DISPLAY
DESCRIPTION:
TRIGGER:-PT10M
END:VALARM
END:VEVENT
END:VCALENDAR