BEGIN:VCALENDAR
VERSION:2.0
PRODID:-//Goldgrube//myauktion.com//AT
CALSCALE:GREGORIAN
BEGIN:VEVENT
DTSTART:20260508T135500
DTEND:20260508T135530
LOCATION:Gewerbepark 13, 8562 Mooskirchen
DTSTAMP:20260424T160240
SUMMARY:MyAuktion: Ablauf Artikel Nr. 958532 Anna Biondi Flowery Red Eau de Parfum 75ml
URL;VALUE=URI:https://www.myauktion.com/versteigerung7671-position2446203-anna-biondi-flowery-red-eau-de-parfum-75ml.php
DESCRIPTION:
UID:myauktion-7671-2446203
BEGIN:VALARM
ACTION:DISPLAY
DESCRIPTION:
TRIGGER:-PT10M
END:VALARM
END:VEVENT
END:VCALENDAR