BEGIN:VCALENDAR
VERSION:2.0
PRODID:-//Goldgrube//myauktion.com//AT
CALSCALE:GREGORIAN
BEGIN:VEVENT
DTSTART:20260508T111800
DTEND:20260508T111830
LOCATION:Gewerbepark 13, 8562 Mooskirchen
DTSTAMP:20260425T015243
SUMMARY:MyAuktion: Ablauf Artikel Nr. 958010 Diverse Waschmittel und Fleckenentferner 
URL;VALUE=URI:https://www.myauktion.com/versteigerung7671-position2446204-diverse-waschmittel-und-fleckenentferner.php
DESCRIPTION:
UID:myauktion-7671-2446204
BEGIN:VALARM
ACTION:DISPLAY
DESCRIPTION:
TRIGGER:-PT10M
END:VALARM
END:VEVENT
END:VCALENDAR