BEGIN:VCALENDAR
VERSION:2.0
PRODID:-//Goldgrube//myauktion.com//AT
CALSCALE:GREGORIAN
BEGIN:VEVENT
DTSTART:20260508T130100
DTEND:20260508T130130
LOCATION:Gewerbepark 13, 8562 Mooskirchen
DTSTAMP:20260424T172645
SUMMARY:MyAuktion: Ablauf Artikel Nr. 958301 Amazon Recycled Hand Towel Centrefeed 6Rolls 30cm x 20cm Sheet Size 450Sheets per Roll 
URL;VALUE=URI:https://www.myauktion.com/versteigerung7671-position2446205-amazon-recycled-hand-towel-centrefeed-6rolls-30cm-x-20cm-sheet-size-450sheets-per-roll.php
DESCRIPTION:
UID:myauktion-7671-2446205
BEGIN:VALARM
ACTION:DISPLAY
DESCRIPTION:
TRIGGER:-PT10M
END:VALARM
END:VEVENT
END:VCALENDAR