BEGIN:VCALENDAR
VERSION:2.0
PRODID:-//Goldgrube//myauktion.com//AT
CALSCALE:GREGORIAN
BEGIN:VEVENT
DTSTART:20260508T092300
DTEND:20260508T092330
LOCATION:Gewerbepark 13, 8562 Mooskirchen
DTSTAMP:20260425T015249
SUMMARY:MyAuktion: Ablauf Artikel Nr. 957706 Dr. Schumacher Perfecktan Endo 2l
URL;VALUE=URI:https://www.myauktion.com/versteigerung7671-position2446209-dr-schumacher-perfecktan-endo-2l.php
DESCRIPTION:Mhd 10.27
UID:myauktion-7671-2446209
BEGIN:VALARM
ACTION:DISPLAY
DESCRIPTION:Mhd 10.27
TRIGGER:-PT10M
END:VALARM
END:VEVENT
END:VCALENDAR